BEGIN:VCALENDAR
VERSION:2.0
PRODID:-//MEP Alumni - ECPv6.15.20//NONSGML v1.0//EN
CALSCALE:GREGORIAN
METHOD:PUBLISH
X-ORIGINAL-URL:https://alumni.mepeurope.eu
X-WR-CALDESC:Events for MEP Alumni
REFRESH-INTERVAL;VALUE=DURATION:PT1H
X-Robots-Tag:noindex
X-PUBLISHED-TTL:PT1H
BEGIN:VTIMEZONE
TZID:Europe/Vienna
BEGIN:DAYLIGHT
TZOFFSETFROM:+0100
TZOFFSETTO:+0200
TZNAME:CEST
DTSTART:20230326T010000
END:DAYLIGHT
BEGIN:STANDARD
TZOFFSETFROM:+0200
TZOFFSETTO:+0100
TZNAME:CET
DTSTART:20231029T010000
END:STANDARD
BEGIN:DAYLIGHT
TZOFFSETFROM:+0100
TZOFFSETTO:+0200
TZNAME:CEST
DTSTART:20240331T010000
END:DAYLIGHT
BEGIN:STANDARD
TZOFFSETFROM:+0200
TZOFFSETTO:+0100
TZNAME:CET
DTSTART:20241027T010000
END:STANDARD
BEGIN:DAYLIGHT
TZOFFSETFROM:+0100
TZOFFSETTO:+0200
TZNAME:CEST
DTSTART:20250330T010000
END:DAYLIGHT
BEGIN:STANDARD
TZOFFSETFROM:+0200
TZOFFSETTO:+0100
TZNAME:CET
DTSTART:20251026T010000
END:STANDARD
BEGIN:DAYLIGHT
TZOFFSETFROM:+0100
TZOFFSETTO:+0200
TZNAME:CEST
DTSTART:20260329T010000
END:DAYLIGHT
BEGIN:STANDARD
TZOFFSETFROM:+0200
TZOFFSETTO:+0100
TZNAME:CET
DTSTART:20261025T010000
END:STANDARD
END:VTIMEZONE
BEGIN:VTIMEZONE
TZID:UTC
BEGIN:STANDARD
TZOFFSETFROM:+0000
TZOFFSETTO:+0000
TZNAME:UTC
DTSTART:20210101T000000
END:STANDARD
END:VTIMEZONE
BEGIN:VEVENT
DTSTART;VALUE=DATE:20251011
DTEND;VALUE=DATE:20251016
DTSTAMP:20260419T151341
CREATED:20250320T121525Z
LAST-MODIFIED:20251010T062301Z
UID:203-1760140800-1760572799@alumni.mepeurope.eu
SUMMARY:International Alumni Session - Frankfurt 2025
DESCRIPTION:For privacy reasons YouTube needs your permission to be loaded.I AcceptDownloads\n\n    \n\n        \n    \n            \n                \n                    \n                        \n                            \n                        \n                        \n                            \n                                Order By:\n                                Publish Date\n                                Title\n                                Update Date\n                                Downloads\n                                Views\n                            \n                        \n                        \n                            \n                                Order:\n                                Descending\n                                Ascending\n                            \n                        \n                        \n                            Apply Filter\n                        \n                    \n                \n            \n\n            \n\n\n        \n            \n\n\n\n\n    \n        \n        \n            \n                MEP Alumni 2025 Frankfurt - Comittee Issues | 418.58 KB\n            \n            Download\n        \n\n    \n    \n\n\n\n\n\n\n\n\n    \n        \n        \n            \n                MEP Alumni 2025 Frankfurt - Programme | 508.36 KB\n            \n            Download
URL:https://alumni.mepeurope.eu/event/international-alumni-session-frankfurt-2025/
LOCATION:Frankfurt\, Germany
CATEGORIES:Alumni
ATTACH;FMTTYPE=image/jpeg:https://alumni.mepeurope.eu/wp-content/uploads/sites/5/2025/03/frankfurt-city-surrounded-by-buildings-under-a-clo-2025-02-02-20-11-10-utc-scaled.jpeg
ORGANIZER;CN="MEP Italia":MAILTO:info@mepitalia.eu
END:VEVENT
BEGIN:VEVENT
DTSTART;VALUE=DATE:20250718
DTEND;VALUE=DATE:20250722
DTSTAMP:20260419T151341
CREATED:20250320T150200Z
LAST-MODIFIED:20250412T183356Z
UID:207-1752796800-1753142399@alumni.mepeurope.eu
SUMMARY:MEP Summer School 2025 on "Security\, Human Rights and the EU"
DESCRIPTION:
URL:https://alumni.mepeurope.eu/event/mep-summer-school-on-security-human-rights-and-the-eu/
LOCATION:Ventotene\, Italy
CATEGORIES:Alumni
ATTACH;FMTTYPE=image/jpeg:https://alumni.mepeurope.eu/wp-content/uploads/sites/5/2025/03/AdobeStock_367811287-scaled.jpeg
ORGANIZER;CN="MEP Alumni":MAILTO:info@mepeurope.eu
END:VEVENT
BEGIN:VEVENT
DTSTART;VALUE=DATE:20250303
DTEND;VALUE=DATE:20250308
DTSTAMP:20260419T151341
CREATED:20241123T084953Z
LAST-MODIFIED:20250412T175032Z
UID:133-1740960000-1741391999@alumni.mepeurope.eu
SUMMARY:MEP Alumni 2025 - Trento
DESCRIPTION:Model European Parliament at the University of Trento\n\nThe third University Session of the Model European Parliament (MEP) at the University of Trento\, held from March 3rd to 7th\, 2025\, brought together 150 participants\, including 120 delegates and 25 committee presidents. The event commenced with an academic opening conference\, followed by two days of intensive committee work where delegates drafted resolutions on key European topics. The subsequent two days were dedicated to plenary sessions\, during which these resolutions were debated and voted upon. The session culminated in a gala evening at the historic Castello del Buonconsiglio\, providing participants with a memorable conclusion to their immersive parliamentary experience \n0Delegates0Committee Presidents0CommitteesAfter a successful session in Brussels this October\, we are pleased to announce the upcoming University Session of the Model European Parliament (MEP)\, organized by MEP Italia and MEP Europe . The session will be held from March 3rd to 7th\, 2025\, at the University of Trento\, Italy. \nIt’s the third year we organize a University Session in Trento. However\, this year we decided to open the event to MEP Alumni from all over Europe. The only requirements are that participants must be over 18 years old and enrolled in a university. \nEvent Overview\nThis five-day event aims to provide participants with a unique opportunity to engage in European-level decision-making processes: \n\nMarch 3-4: Committee Work – Delegates will draft resolutions on key European topics.\nMarch 6-7: Plenary Assembly – Resolutions will be debated and voted upon.\nMarch 8: Gala Evening – A formal celebration to conclude the session (tbc).\nSpecial Event: Lectio Magistralis – International experts and professors will deliver a keynote lecture to inspire participants and deepen their understanding of the session’s themes.\nAs for the Brussels Session\, participants will not only be part of thematic committees but also political groups\, enabling a more realistic and complex simulation of the EP.\n\nWe kindly request your support in promoting this opportunity within your networks by sharing the event details with potential participants who meet the eligibility criteria. \nParticipation is completely free\, with only a refundable deposit of €50. Participants are therefore responsible for their own transportation and accommodation\, but the organizing team will provide assistance in identifying the most suitable options. \nRegistration closes on December 10th\, 2024\, at 11:59 PM. Seats will be allocated on a first-come\, first-served basis or randomly if demand exceeds capacity. \nTo apply: Registration Form \nFor privacy reasons YouTube needs your permission to be loaded.I AcceptFollow us on \nDownloads\n\n    \n\n        \n    \n            \n                \n                    \n                        \n                            \n                        \n                        \n                            \n                                Order By:\n                                Publish Date\n                                Title\n                                Update Date\n                                Downloads\n                                Views\n                            \n                        \n                        \n                            \n                                Order:\n                                Descending\n                                Ascending\n                            \n                        \n                        \n                            Apply Filter\n                        \n                    \n                \n            \n\n            \n\n\n        \n            No downloads found!
URL:https://alumni.mepeurope.eu/event/mep-alumni-2025-trento/
LOCATION:UniTrento\, Via Calepina\, 14\, Trento\, TN\, 38122\, Italy
CATEGORIES:Alumni
ATTACH;FMTTYPE=image/jpeg:https://alumni.mepeurope.eu/wp-content/uploads/sites/5/2024/11/sierra-Bwti6TkF5tI-unsplash-scaled.jpg
ORGANIZER;CN="MEP Alumni":MAILTO:info@mepeurope.eu
END:VEVENT
BEGIN:VEVENT
DTSTART;VALUE=DATE:20241015
DTEND;VALUE=DATE:20241020
DTSTAMP:20260419T151341
CREATED:20240627T175439Z
LAST-MODIFIED:20241018T190452Z
UID:110-1728950400-1729382399@alumni.mepeurope.eu
SUMMARY:MEP Alumni 2024 - Brussels
DESCRIPTION:After the great success of our Alumni event in Garda\, we are delighted to announce the opening of registrations for the International Model European Parliament Session for Alumni\, which will be held in Brussels from October 15 to 19\, 2024. This event represents a unique opportunity for our former participants to continue developing their skills and deepen their understanding of the European Union’s dynamics. \nSimulation of Committees and Political Groups: For the first time\, participants will not only be part of thematic committees but also political groups\, enabling a more realistic and complex simulation of the European Parliament. \nParticipants will have the opportunity to enhance their debating\, public speaking\, policy drafting\, and critical thinking skills\, through dedicated workshops. \nFor more information and to register\, please visit the following link: https://forms.gle/ZWowJoPqsx1jcRjb9 \nMedia\nVideo of the General AssemblyDownloads\n\n    \n\n        \n    \n            \n                \n                    \n                        \n                            \n                        \n                        \n                            \n                                Order By:\n                                Publish Date\n                                Title\n                                Update Date\n                                Downloads\n                                Views\n                            \n                        \n                        \n                            \n                                Order:\n                                Descending\n                                Ascending\n                            \n                        \n                        \n                            Apply Filter\n                        \n                    \n                \n            \n\n            \n\n\n        \n            \n\n\n\n\n    \n        \n        \n            \n                MEP Alumni 2024 Brussels - Project overview | 134.38 KB\n            \n            Download
URL:https://alumni.mepeurope.eu/event/mep-alumni-2024-brussels/
LOCATION:Brussels\, Brussels\, Belgium
CATEGORIES:Alumni
ATTACH;FMTTYPE=image/jpeg:https://alumni.mepeurope.eu/wp-content/uploads/sites/5/2024/06/br-1-scaled.jpg
ORGANIZER;CN="MEP Alumni":MAILTO:info@mepeurope.eu
END:VEVENT
BEGIN:VEVENT
DTSTART;VALUE=DATE:20240517
DTEND;VALUE=DATE:20240521
DTSTAMP:20260419T151341
CREATED:20240511T125212Z
LAST-MODIFIED:20240528T094852Z
UID:42-1715904000-1716249599@alumni.mepeurope.eu
SUMMARY:MEP Alumni 2024 - ReshapEU - Garda Lake
DESCRIPTION:ReshapeEU – A new Treaty of Rome\nThe Project \nThe Treaty of Rome laid the foundation for the birth of the European Community. From the 6 founding countries and the idea of a union\, first and foremost\, economic\, today\, the Union has become the Union of 27 and a common space\, and a bulwark\, for the protection of rights\, the rule of law\, and equality. The current context of polycrisis\, however\, poses challenges that require decisive acceleration. Above all\, it requires that the debate on the challenges of today’s Europe never be set aside and involve all parts of society. \nReshapEU is an initiative of MEP Europe Alumni\, which stands as a collective workshop aimed at addressing three essential issues: the protection of the rule of law\, the protection of the environment\, and the protection of vulnerable groups. The collective laboratory\, which will develop over the next few years in several stages until 2025\, the year of the 70th anniversary of the Treaty of Rome\, will see its launch event on the coast of the Lake of Garda. \nFollow us on \n\n				\n					\n					\n					\n				Loading the next set of gallery items...Load MoreDownloads\n\n    \n\n        \n    \n            \n                \n                    \n                        \n                            \n                        \n                        \n                            \n                                Order By:\n                                Publish Date\n                                Title\n                                Update Date\n                                Downloads\n                                Views\n                            \n                        \n                        \n                            \n                                Order:\n                                Descending\n                                Ascending\n                            \n                        \n                        \n                            Apply Filter\n                        \n                    \n                \n            \n\n            \n\n\n        \n            \n\n\n\n\n    \n        \n        \n            \n                MEP Alumni 2024 Garda Lake - Recommendations | 185.29 KB\n            \n            Download\n        \n\n    \n    \n\n\n\n\n\n\n\n\n    \n        \n        \n            \n                MEP Alumni 2024 Garda Lake | 207.92 KB\n            \n            Download
URL:https://alumni.mepeurope.eu/event/mep-alumni-2024-reshapeu-garda-lake/
LOCATION:Parc Hotel ****\, Via Coppo\, 2\, Peschiera del Garda\, 37019\, Italy
CATEGORIES:Alumni
ATTACH;FMTTYPE=image/jpeg:https://alumni.mepeurope.eu/wp-content/uploads/sites/5/2024/05/WhatsApp-Image-2024-05-26-at-17.43.45-4.jpeg
ORGANIZER;CN="MEP Alumni":MAILTO:info@mepeurope.eu
END:VEVENT
BEGIN:VEVENT
DTSTART;VALUE=DATE:20221209
DTEND;VALUE=DATE:20221215
DTSTAMP:20260419T151341
CREATED:20220615T232103Z
LAST-MODIFIED:20240528T094516Z
UID:22-1670544000-1671062399@alumni.mepeurope.eu
SUMMARY:MEP Alumni 2021 - Tallinn
DESCRIPTION:
URL:https://alumni.mepeurope.eu/event/2021-tallinn/
LOCATION:Tallinn\, Tallinn\, Estonia
CATEGORIES:Alumni
ATTACH;FMTTYPE=image/jpeg:https://alumni.mepeurope.eu/wp-content/uploads/sites/5/2022/06/Bildschirmfoto-2022-02-06-um-23.45.15.jpg
ORGANIZER;CN="MEP Alumni":MAILTO:info@mepeurope.eu
END:VEVENT
END:VCALENDAR